BEGIN:VCALENDAR
VERSION:2.0
PRODID:-//ChamberMaster//Event Calendar 2.0//EN
METHOD:PUBLISH
X-PUBLISHED-TTL:P3D
REFRESH-INTERVAL:P3D
CALSCALE:GREGORIAN
BEGIN:VEVENT
DTSTART:20190921T153000Z
DTEND:20190921T160000Z
X-MICROSOFT-CDO-ALLDAYEVENT:FALSE
SUMMARY:True Blue Dogs Story Time
DESCRIPTION:Join us for a very special True Blue Dogs story time! Rescue & Jessica: a Life-Changing Friendship is a children's story about a Boston Marathon bomber survivor and her service dog. She tells her motivational story about how her service dog has changed her life for the better.\n\n\n\n10% of the sale of each copy will be donated to True Blue Dogs!
X-ALT-DESC;FMTTYPE=text/html:Join us for a very special True Blue Dogs story time! Rescue &amp\; Jessica: a Life-Changing Friendship is a children&#39\;s story about a Boston Marathon bomber survivor and her service dog. She tells her motivational story about how her service dog has changed her life for the better.<br />\n<br />\n10% of the sale of each copy will be donated to True Blue Dogs!
LOCATION:Read Between the Lynes 111 E Van Buren St Woodstock\, IL 60098
UID:e.2851.10274
SEQUENCE:3
DTSTAMP:20260423T110011Z
URL:https://business.woodstockilchamber.com/events/details/true-blue-dogs-story-time-09-21-2019-10274
END:VEVENT

END:VCALENDAR
