BEGIN:VCALENDAR
VERSION:2.0
PRODID:-//ChamberMaster//Event Calendar 2.0//EN
METHOD:PUBLISH
X-PUBLISHED-TTL:P3D
REFRESH-INTERVAL:P3D
CALSCALE:GREGORIAN
BEGIN:VEVENT
DTSTART:20200302T150000Z
DTEND:20200302T163000Z
X-MICROSOFT-CDO-ALLDAYEVENT:FALSE
SUMMARY:Understanding Social Security
DESCRIPTION:FREE session covering the basics of Social Security. Will cover setting up your account\, strategies\, and take any questions.
X-ALT-DESC;FMTTYPE=text/html:FREE session covering the basics of Social Security. Will cover setting up your account\, strategies\, and take any questions.
LOCATION:111 1/2 Van Buren 2nd Floor (above Read Between the Lynes)
UID:e.2851.11229
SEQUENCE:3
DTSTAMP:20260423T001425Z
URL:https://business.woodstockilchamber.com/events/details/understanding-social-security-11229
END:VEVENT

END:VCALENDAR
