BEGIN:VCALENDAR
VERSION:2.0
PRODID:-//ChamberMaster//Event Calendar 2.0//EN
METHOD:PUBLISH
X-PUBLISHED-TTL:P3D
REFRESH-INTERVAL:P3D
CALSCALE:GREGORIAN
BEGIN:VEVENT
DTSTART:20200321T140000Z
DTEND:20200321T170000Z
X-MICROSOFT-CDO-ALLDAYEVENT:FALSE
SUMMARY:United in Prayer Day: Healing Divisions
DESCRIPTION:A day of prayer dedicated to whole-making\n\n in ourselves\, our relationships and our world.  \n\n St. Ann's is hosting a prayer group in cooperation\n\nwith Contemplative Outreach as part of United in Prayer Day.\n\n All are welcome\n\n \n\nThis informal gathering offers space & time to pray\, reflect\, share in the spirit of healing & prayerful unity. For newcomers\, it introduces Centering Prayer\, a meditative practice of silent prayer. For those with a meditation practice\, the day is a chance to join others in extending that practice. The program includes light breakfast\, an overview of Centering Prayer\, group discussion & sharing\, Taiz  music\, & time for silent prayer.\n\n Centering Prayer:  In the early 1970s\, Trappist monk Thomas Keating worked to bring people living outside monasteries a form of silent prayer now known as Centering Prayer. With roots in the 14th century book The Cloud of Unknowing\, this kind of prayer allows people to sit silently and become receptive to God's gift of contemplation.  Taiz  music is chant-like\, simple songs repeated many times.
X-ALT-DESC;FMTTYPE=text/html:<strong><span style="color:#1C1D1D"><span style="font-family:century gothic\,sans-serif"><span style="font-size:16.0pt">A day of prayer dedicated to&nbsp\;whole-making</span></span></span></strong><br />\n<strong><span style="color:#1C1D1D"><span style="font-family:century gothic\,sans-serif"><span style="font-size:16.0pt">&nbsp\;in ourselves\, our relationships and our world.&nbsp\;&nbsp\;</span></span></span></strong><br />\n&nbsp\;<span style="font-family:century gothic\,sans-serif"><span style="font-size:16.0pt">St. Ann&rsquo\;s is hosting a prayer group in cooperation</span></span><br />\n<span style="font-family:century gothic\,sans-serif"><span style="font-size:16.0pt">with Contemplative Outreach as part of United in Prayer Day.</span></span><br />\n&nbsp\;<strong><em><u><span style="font-family:century gothic\,sans-serif"><span style="font-size:16.0pt">All are welcome</span></span></u></em></strong><br />\n&nbsp\;<br />\n<span style="color:#222222"><span style="font-family:century gothic\,sans-serif"><span style="font-size:14.0pt">This informal gathering offers space &amp\; time to pray\, reflect\, share in the spirit of healing &amp\; prayerful unity. For newcomers\, it introduces Centering Prayer\, a meditative practice of silent prayer. For those with a meditation practice\, the day is a chance to join others in extending that practice. The program includes light breakfast\, an overview of Centering Prayer\, group discussion &amp\; sharing\, Taiz&eacute\; music\, &amp\; time for silent prayer.</span></span></span><br />\n&nbsp\;<em><u><span style="color:#222222"><span style="font-family:century gothic\,sans-serif"><span style="font-size:14.0pt">Centering Prayer:</span></span></span></u></em><span style="color:#222222"><span style="font-family:century gothic\,sans-serif"><span style="font-size:14.0pt">&nbsp\;&nbsp\;</span></span></span><span style="color:#222222"><span style="font-family:century gothic\,sans-serif"><span style="font-size:12.0pt">In the early 1970s\, Trappist monk Thomas Keating worked to bring people living outside monasteries a form of silent prayer now known as </span></span></span><strong><span style="color:#222222"><span style="font-family:century gothic\,sans-serif"><span style="font-size:12.0pt">Centering Prayer</span></span></span></strong><span style="color:#222222"><span style="font-family:century gothic\,sans-serif"><span style="font-size:12.0pt">. With roots in the 14th century book&nbsp\;<em>The Cloud of Unknowing</em>\, this kind of prayer allows people to sit silently and become receptive to God&rsquo\;s gift of contemplation.&nbsp\; </span></span></span><strong><span style="color:#222222"><span style="font-family:century gothic\,sans-serif"><span style="font-size:12.0pt">Taiz&eacute\; music</span></span></span></strong><span style="color:#222222"><span style="font-family:century gothic\,sans-serif"><span style="font-size:12.0pt"> is chant-like\, simple songs repeated many times.</span></span></span>
LOCATION:Location: St. Ann's / 503 W. Jackson / Woodstock IL Free parking in rear of church
UID:e.2851.11257
SEQUENCE:3
DTSTAMP:20260423T001754Z
URL:https://business.woodstockilchamber.com/events/details/united-in-prayer-day-healing-divisions-11257
END:VEVENT

END:VCALENDAR
