BEGIN:VCALENDAR
VERSION:2.0
PRODID:-//ChamberMaster//Event Calendar 2.0//EN
METHOD:PUBLISH
X-PUBLISHED-TTL:P3D
REFRESH-INTERVAL:P3D
CALSCALE:GREGORIAN
BEGIN:VEVENT
DTSTART:20191019T000000Z
DTEND:20191019T010000Z
X-MICROSOFT-CDO-ALLDAYEVENT:FALSE
SUMMARY:Vaudeville Food Pantry Benefit Show
DESCRIPTION:FREE Old-fashioned Family Variety Show performed by kids ages 6-11. Show #7 for the "Woodstock Palace Revue\," featuring singing\, dancing & comedy. Featuring acts from The Shirley Temple Fan Club-Woodstock Audience members asked to bring canned soup to donate to be donated to the Woodstock Food Pantry.
X-ALT-DESC;FMTTYPE=text/html:FREE Old-fashioned Family Variety Show performed by kids ages 6-11. Show #7 for the &quot\;Woodstock Palace Revue\,&quot\; featuring singing\, dancing &amp\; comedy. Featuring acts from The Shirley Temple Fan Club-Woodstock Audience members asked to bring canned soup to donate to be donated to the Woodstock Food Pantry.
LOCATION:110 S. Johnson st.\, Woodstock Mall\, Lower Level\, Studio 3.
UID:e.2851.10300
SEQUENCE:3
DTSTAMP:20260423T092334Z
URL:https://business.woodstockilchamber.com/events/details/vaudeville-food-pantry-benefit-show-10300
END:VEVENT

END:VCALENDAR
