BEGIN:VCALENDAR
VERSION:2.0
PRODID:-//ChamberMaster//Event Calendar 2.0//EN
METHOD:PUBLISH
X-PUBLISHED-TTL:P3D
REFRESH-INTERVAL:P3D
CALSCALE:GREGORIAN
BEGIN:VEVENT
DTSTART:20190906T140000Z
DTEND:20190908T220000Z
X-MICROSOFT-CDO-ALLDAYEVENT:FALSE
SUMMARY:Vintage Finds off Rt. 14
DESCRIPTION:inVintage Finds Off Route 14 is an event showcasing the many and varied Antique and Vintage Shops along US Route 14 in Chicago's Northwest Suburbs. Plan to visit all our participating shops during this Antique & Vintage Shop Crawl!\n\nSeptember 6\, 7 & 8\, 2019. See our website (address below) for each shop's hours during the event.\n\nDuring the event\, each participating shop will be offering its own promotion to welcome shoppers.\n\nShoppers can enter a drawing for gift certificates from participating stores at every store they visit during the event.\n\nMore details\, including a map and list of stores and their hours during the event at https://vintagefindsoffroute14.com/
X-ALT-DESC;FMTTYPE=text/html:<p style="box-sizing: border-box\; margin: 0px\; padding: 0px 0px 27px\; border: 0px\; font-variant-numeric: inherit\; font-variant-east-asian: inherit\; font-stretch: inherit\; font-size: 16px\; line-height: inherit\; font-family: Roboto\; vertical-align: baseline\; -webkit-font-smoothing: antialiased\; color: rgb(255\, 255\, 255)\; background-color: rgb(255\, 255\, 255)\;">in<span style="color: rgb(29\, 33\, 41)\; font-family: Helvetica\, Arial\, sans-serif\; font-size: 14px\; white-space: pre-wrap\; background-color: rgb(255\, 255\, 255)\;">Vintage Finds Off Route 14 is an event showcasing the many and varied Antique and Vintage Shops along US Route 14 in Chicago&rsquo\;s Northwest Suburbs. Plan to visit all our participating shops during this Antique &amp\; Vintage Shop Crawl!</span><br style="color: rgb(29\, 33\, 41)\; font-family: Helvetica\, Arial\, sans-serif\; font-size: 14px\; white-space: pre-wrap\; background-color: rgb(255\, 255\, 255)\;" />\n<span style="color: rgb(29\, 33\, 41)\; font-family: Helvetica\, Arial\, sans-serif\; font-size: 14px\; white-space: pre-wrap\; background-color: rgb(255\, 255\, 255)\;">September 6\, 7 &amp\; 8\, 2019. See our website (address below) for each shop&#39\;s hours during the event.</span><br style="color: rgb(29\, 33\, 41)\; font-family: Helvetica\, Arial\, sans-serif\; font-size: 14px\; white-space: pre-wrap\; background-color: rgb(255\, 255\, 255)\;" />\n<span style="color: rgb(29\, 33\, 41)\; font-family: Helvetica\, Arial\, sans-serif\; font-size: 14px\; white-space: pre-wrap\; background-color: rgb(255\, 255\, 255)\;">During the event\, each participating shop will be offering its own promotion to welcome shoppers.</span><br style="color: rgb(29\, 33\, 41)\; font-family: Helvetica\, Arial\, sans-serif\; font-size: 14px\; white-space: pre-wrap\; background-color: rgb(255\, 255\, 255)\;" />\n<span style="color: rgb(29\, 33\, 41)\; font-family: Helvetica\, Arial\, sans-serif\; font-size: 14px\; white-space: pre-wrap\; background-color: rgb(255\, 255\, 255)\;">Shoppers can enter a drawing for gift certificates from participating stores at every store they visit during the event.</span><br style="color: rgb(29\, 33\, 41)\; font-family: Helvetica\, Arial\, sans-serif\; font-size: 14px\; white-space: pre-wrap\; background-color: rgb(255\, 255\, 255)\;" />\n<span style="color: rgb(29\, 33\, 41)\; font-family: Helvetica\, Arial\, sans-serif\; font-size: 14px\; white-space: pre-wrap\; background-color: rgb(255\, 255\, 255)\;">More details\, including a map and list of stores and their hours during the event at </span><a data-lynx-mode="hover" href="https://l.facebook.com/l.php?u=https%3A%2F%2Fvintagefindsoffroute14.com%2F%3Ffbclid%3DIwAR36wLwGYV9vi8M7aJ7LWM6-Nx5HYhpHGROPq9ouBWIoSe6prIDw56Wu-ko&amp\;h=AT1w3tbO5JUNkgO9cRgEEFRQKawLENxOuMs6tQtzcBKyRtdWeZXsHqJJymoAgiIn1mGVBNucXbWRUpH9CGcnjFb1I3vPeHVqlt5ai_iEhMLTBjcFsSHOob1hceeOPPwQ" rel="nofollow noopener" style="color: rgb(56\, 88\, 152)\; cursor: pointer\; text-decoration-line: none\; font-family: Helvetica\, Arial\, sans-serif\; font-size: 14px\; white-space: pre-wrap\; background-color: rgb(255\, 255\, 255)\;" target="_blank">https://vintagefindsoffroute14.com/</a><br />\n<br />\n&nbsp\;</p>\n
LOCATION:
UID:e.2851.10241
SEQUENCE:3
DTSTAMP:20260423T105637Z
URL:https://business.woodstockilchamber.com/events/details/vintage-finds-off-rt-14-10241
END:VEVENT

END:VCALENDAR
