BEGIN:VCALENDAR
VERSION:2.0
PRODID:-//ChamberMaster//Event Calendar 2.0//EN
METHOD:PUBLISH
X-PUBLISHED-TTL:P3D
REFRESH-INTERVAL:P3D
CALSCALE:GREGORIAN
BEGIN:VEVENT
DTSTART:20210220T010000Z
DTEND:20210220T023000Z
X-MICROSOFT-CDO-ALLDAYEVENT:FALSE
SUMMARY:Virtual Scavenger Hunt
DESCRIPTION:Are you sick of the pandemic and looking for something fun to do? Join Marian Central for a family-friendly Virtual Scavenger Hunt on Friday\, February 19\, at 7:00 pm on Zoom. Event will include raffle and silent auction baskets. Registration is now open at marianscavhunt.givesmart.com.
X-ALT-DESC;FMTTYPE=text/html:<strong>Are you sick of the pandemic and looking for something fun to do?</strong><span style="color:rgb(85\, 85\, 85)\; font-family:roboto\,lucida grande\,arial\,sans-serif\; font-size:15px">&nbsp\;Join Marian Central for a family-friendly&nbsp\;</span><strong>Virtual Scavenger Hunt</strong><span style="color:rgb(85\, 85\, 85)\; font-family:roboto\,lucida grande\,arial\,sans-serif\; font-size:15px">&nbsp\;on Friday\, February 19\, at 7:00 pm on Zoom. Event will include raffle and silent auction baskets. Registration is now open at&nbsp\;</span><a href="http://marianscavhunt.givesmart.com/" rel="nofollow" style="cursor: pointer\; color: rgb(28\, 110\, 152)\; font-family: Roboto\, &quot\;Lucida Grande&quot\;\, arial\, sans-serif\; font-size: 15px\;" target="_blank">marianscavhunt.givesmart.com</a>.
LOCATION:Online via Zoom - Registration required to receive link
UID:e.2851.12409
SEQUENCE:3
DTSTAMP:20260420T060355Z
URL:https://business.woodstockilchamber.com/events/details/virtual-scavenger-hunt-12409
END:VEVENT

END:VCALENDAR
