BEGIN:VCALENDAR
VERSION:2.0
PRODID:-//ChamberMaster//Event Calendar 2.0//EN
METHOD:PUBLISH
X-PUBLISHED-TTL:P3D
REFRESH-INTERVAL:P3D
CALSCALE:GREGORIAN
BEGIN:VEVENT
DTSTART:20201114T200000Z
DTEND:20201114T210000Z
X-MICROSOFT-CDO-ALLDAYEVENT:FALSE
SUMMARY:Virtual Winter Wine Pull
DESCRIPTION:TLS Veterans will be hosting a Virtual Wine Pull from the Huntley American Legion Post 673! This will take place on November 14th at 2:00 pm from the comforts of your home via Facebook Live. Tickets are $10 each. Enter as many times as you wish. Wine bottles are valued at $10 and up. All proceeds will go to helping the veterans we serve.\n\nHow it works:\n\nYour name will be entered to win one of the many wine bottles. Once your name is pulled\, we will then pull a number from a separate bin to determine which wine bottle you will get. This way it will be completely random as to what bottle of wine will be chosen for you. Let's have some fun!
X-ALT-DESC;FMTTYPE=text/html:<p>TLS Veterans will be hosting a Virtual Wine Pull from the Huntley American Legion Post 673! This will take place on&nbsp\;<strong>November 14th&nbsp\;</strong>at&nbsp\;<strong>2:00 pm</strong>&nbsp\;from the comforts of your home via Facebook Live.&nbsp\;Tickets are&nbsp\;<strong>$10&nbsp\;</strong>each. Enter as many times as you wish. Wine bottles are valued at $10 and up. All proceeds will go to helping the veterans we serve.</p>\n\n<h4>How it works:</h4>\n\n<p>Your name will be entered to win one of the many wine bottles. Once your name is pulled\, we will then pull a number from a separate bin to determine which wine bottle you will get. This way it will be completely random as to what bottle of wine will be chosen for you. Let&#39\;s have some fun!</p>\n
LOCATION:Hosted at Huntley American Legion Post 673 Watch from the comforts of your home on Facebook Live
UID:e.2851.12046
SEQUENCE:3
DTSTAMP:20260422T102049Z
URL:https://business.woodstockilchamber.com/events/details/virtual-winter-wine-pull-12046
END:VEVENT

END:VCALENDAR
