BEGIN:VCALENDAR
VERSION:2.0
PRODID:-//ChamberMaster//Event Calendar 2.0//EN
METHOD:PUBLISH
X-PUBLISHED-TTL:P3D
REFRESH-INTERVAL:P3D
CALSCALE:GREGORIAN
BEGIN:VEVENT
DTSTART:20260201T160000Z
DTEND:20260201T180000Z
X-MICROSOFT-CDO-ALLDAYEVENT:FALSE
SUMMARY:Wake Up with Wolfgang and Willie
DESCRIPTION:Wake Up with Wolfgang & Wille\n\nJoin the Friends of the Opera House for a delightful morning fundraiser that hits all the right notes! Wake Up with Wolfgang & Wille is a charming celebration designed to awaken your senses\, support the arts\, and kick off a fun-filled day of Groundhog Day festivities in Woodstock.\n\nGuests will enjoy a delicious spread of breakfast pastries and treats\, complemented by refreshing mimosas. Explore your musical curiosity at the Musical Petting Zoo\, an interactive\, hands-on experience perfect for all ages. Live performances from talented local musicians add to the cozy atmosphere\, celebrating the spirit of Wolfgang Amadeus Mozart and Wille.\n\nAttendees will also receive an exclusive behind-the-scenes tour of the newly renovated\, historic Opera House. And don't forget to snap a photo with Woodstock Willie before heading out to enjoy the rest of the day's festivities!\n\nThis Event is More Than a Fundraiser\n\n It's a celebration of community\, shared experiences\, creativity\, and the joy of music. All proceeds benefit the Opera House's programming and outreach efforts.\n\nPresented by Friends of the Opera House\n\nTICKETS: $35.00 Adults | $60.00 Couples | $15.00 Students ages 10 15 | Children under 10 Free
X-ALT-DESC;FMTTYPE=text/html:<span style="font-size:14pt"><strong>Wake Up with Wolfgang &amp\; Wille</strong></span><br />\n<span style="font-size:14pt">Join the Friends of the Opera House for a delightful morning fundraiser that hits all the right notes!&nbsp\;<em>Wake Up with Wolfgang &amp\; Wille</em>&nbsp\;is a charming celebration designed to awaken your senses\, support the arts\, and kick off a fun-filled day of Groundhog Day festivities in Woodstock.</span><br />\n<span style="font-size:14pt">Guests will enjoy a delicious spread of breakfast pastries and treats\, complemented by refreshing mimosas. Explore your musical curiosity at the Musical Petting Zoo\, an interactive\, hands-on experience perfect for all ages. Live performances from talented local musicians add to the cozy atmosphere\, celebrating the spirit of Wolfgang Amadeus Mozart and Wille.</span><br />\n<span style="font-size:14pt">Attendees will also receive an exclusive behind-the-scenes tour of the newly renovated\, historic Opera House. And don&rsquo\;t forget to snap a photo with Woodstock Willie before heading out to enjoy the rest of the day&rsquo\;s festivities!</span><br />\n<span style="font-size:14pt"><strong>This Event is More Than a Fundraiser</strong></span><br />\n<span style="font-size:14pt">&nbsp\;It&rsquo\;s a celebration of community\, shared experiences\, creativity\, and the joy of music. All proceeds benefit the Opera House&rsquo\;s programming and outreach efforts.</span><br />\n<span style="font-size:18pt"><strong>Presented by Friends of the Opera House</strong></span>\n\n<h6><span style="font-size:18pt"><strong>TICKETS:</strong>&nbsp\;$35.00 Adults | $60.00 Couples | $15.00 Students ages 10&ndash\;15 | Children under 10 Free</span></h6>\n
LOCATION:Stage Left
UID:e.2851.18192
SEQUENCE:3
DTSTAMP:20260420T204558Z
URL:https://business.woodstockilchamber.com/events/details/wake-up-with-wolfgang-and-willie-18192
END:VEVENT

END:VCALENDAR
