BEGIN:VCALENDAR
VERSION:2.0
PRODID:-//ChamberMaster//Event Calendar 2.0//EN
METHOD:PUBLISH
X-PUBLISHED-TTL:P3D
REFRESH-INTERVAL:P3D
CALSCALE:GREGORIAN
BEGIN:VEVENT
DTSTART:20200201T193000Z
DTEND:20200201T203000Z
X-MICROSOFT-CDO-ALLDAYEVENT:FALSE
SUMMARY:Walking Tour of Filming Sites
DESCRIPTION:Bob Hudgins is back to tell his behind the scenes stories\n\nfrom the filming of 'Groundhog Day' in 1992.  Bob was the \n\nlocations manager and helped Harold Ramis bring the \n\nproduction to Woodstock.  This tour begins at 1:30\, starting\n\noutside the Woodstock Moose Lodge\, 406 Clay St. 2 blocks\n\nNorth of the Square.  Bob will lead the tour around the Square\n\nand eventually end up at the Cherry Tree Inn Bed & Breakfast.
X-ALT-DESC;FMTTYPE=text/html:Bob Hudgins is back to tell his behind the scenes stories<br />\nfrom the filming of &#39\;Groundhog Day&#39\; in 1992.&nbsp\; Bob was the&nbsp\;<br />\nlocations manager and helped Harold Ramis bring the&nbsp\;<br />\nproduction to Woodstock.&nbsp\; This tour begins at 1:30\, starting<br />\noutside the Woodstock Moose Lodge\, 406 Clay St. 2 blocks<br />\nNorth of the Square.&nbsp\; Bob will lead the tour around the Square<br />\nand eventually end up at the Cherry Tree Inn Bed &amp\; Breakfast.
LOCATION:Woodstock Moose Lodge 406 Clay St. Woodstock\, IL
UID:e.2851.10444
SEQUENCE:3
DTSTAMP:20260423T020812Z
URL:https://business.woodstockilchamber.com/events/details/walking-tour-of-filming-sites-10444
END:VEVENT

END:VCALENDAR
