BEGIN:VCALENDAR
VERSION:2.0
PRODID:-//ChamberMaster//Event Calendar 2.0//EN
METHOD:PUBLISH
X-PUBLISHED-TTL:P3D
REFRESH-INTERVAL:P3D
CALSCALE:GREGORIAN
BEGIN:VEVENT
DTSTART:20200202T180000Z
DTEND:20200202T190000Z
X-MICROSOFT-CDO-ALLDAYEVENT:FALSE
SUMMARY:Walking Tour of Filming Sites
DESCRIPTION:Gather at the Moose Club for a fun and informative\n\ntour of the "Groundhog Day" filming sites.  Dress\n\nwarm and don't forget your booties cuz it's cold\n\nout there! The tour will end at the B & B where Bill Murray\n\nwoke up every morning.  You are invited inside to see the Cherry\n\nTree Inn and warm up with hot cider.
X-ALT-DESC;FMTTYPE=text/html:Gather at the Moose Club for a fun and informative<br />\ntour of the &quot\;Groundhog Day&quot\; filming sites.&nbsp\; Dress<br />\nwarm and don&#39\;t forget your booties cuz it&#39\;s cold<br />\nout there! The tour will end at the B &amp\; B&nbsp\;where Bill Murray<br />\nwoke up every morning.&nbsp\; You are invited inside to see the Cherry<br />\nTree Inn and warm up with hot cider.
LOCATION:Woodstock Opera House 121 W. Van Buren St. Woodstock\, IL
UID:e.2851.10463
SEQUENCE:3
DTSTAMP:20260423T020805Z
URL:https://business.woodstockilchamber.com/events/details/walking-tour-of-filming-sites-10463
END:VEVENT

END:VCALENDAR
