BEGIN:VCALENDAR
VERSION:2.0
PRODID:-//ChamberMaster//Event Calendar 2.0//EN
METHOD:PUBLISH
X-PUBLISHED-TTL:P3D
REFRESH-INTERVAL:P3D
CALSCALE:GREGORIAN
BEGIN:VEVENT
DTSTART:20200131T000000Z
DTEND:20200131T000000Z
X-MICROSOFT-CDO-ALLDAYEVENT:FALSE
SUMMARY:Welcoming of the Groundhog
DESCRIPTION:Come inside the historic Opera House to see Woodstock\n\nWillie on the main stage for his first appearance of the\n\nholiday weekend.  Groundhog Day festivities begin in the\n\nmain auditorium.
X-ALT-DESC;FMTTYPE=text/html:Come inside the historic Opera House to see Woodstock<br />\nWillie on the main stage for his first appearance of the<br />\nholiday weekend.&nbsp\; Groundhog Day festivities begin in the<br />\nmain auditorium.
LOCATION:Woodstock Opera House Main Stage 121 W. Van Buren St. Woodstock\, IL
UID:e.2851.10429
SEQUENCE:3
DTSTAMP:20260423T034912Z
URL:https://business.woodstockilchamber.com/events/details/welcoming-of-the-groundhog-10429
END:VEVENT

END:VCALENDAR
