BEGIN:VCALENDAR
VERSION:2.0
PRODID:-//ChamberMaster//Event Calendar 2.0//EN
METHOD:PUBLISH
X-PUBLISHED-TTL:P3D
REFRESH-INTERVAL:P3D
CALSCALE:GREGORIAN
BEGIN:VEVENT
DTSTART:20191217T010000Z
DTEND:20191217T030000Z
X-MICROSOFT-CDO-ALLDAYEVENT:FALSE
SUMMARY:White Christmas - A Movie Sing Along
DESCRIPTION:Movies at the Opera House\n\n\n\nWith all the lyrics on screen\, you'll be able to dream of a White Christmas right alongside Bing Crosby and Rosemary Clooney in the beloved 1954 film.\n\n\n\nIn this classic film\, two popular song-and-dance duos - Wallace & Davis and The Haynes Sisters - fall in love while helping an old friend save his Vermont lodge. Sing along with Bing Crosby\, Danny Kaye\, Rosemary Clooney\, and Vera-Ellen at these special screenings of this beloved Christmas classic. \n\nTICKETS: $5.00 All Seats
X-ALT-DESC;FMTTYPE=text/html:<h3>Movies at the Opera House<br />\n<br />\nWith all the lyrics on screen\, you&rsquo\;ll be&nbsp\;able to dream of a&nbsp\;White Christmas right&nbsp\;alongside Bing Crosby and Rosemary&nbsp\;Clooney in the beloved 1954 film.<br />\n<br />\nIn this classic film\, two popular song-and-dance duos - Wallace &amp\; Davis and The Haynes Sisters - fall in love while helping an old friend save his Vermont lodge. Sing along with Bing Crosby\, Danny Kaye\, Rosemary Clooney\, and Vera-Ellen at these special screenings of this beloved Christmas classic.&nbsp\;</h3>\n\n<h6><span style="font-size:18px">TICKETS:&nbsp\;$5.00 All Seats</span></h6>\n
LOCATION:Woodstock Opera House 121 W Van Buren Street Woodstock\, IL 60098
UID:e.2851.10417
SEQUENCE:3
DTSTAMP:20260423T053309Z
URL:https://business.woodstockilchamber.com/events/details/white-christmas-a-movie-sing-along-10417
END:VEVENT

END:VCALENDAR
