BEGIN:VCALENDAR
VERSION:2.0
PRODID:-//ChamberMaster//Event Calendar 2.0//EN
METHOD:PUBLISH
X-PUBLISHED-TTL:P3D
REFRESH-INTERVAL:P3D
CALSCALE:GREGORIAN
BEGIN:VEVENT
DTSTART:20210213T020000Z
DTEND:20210213T030000Z
X-MICROSOFT-CDO-ALLDAYEVENT:FALSE
SUMMARY:WOH Spotlight Series: Mark Dvorak
DESCRIPTION:WOH SPOTLIGHT SERIES - LIVESTREAM PERFORMANCE\n\nOver the last two decades\, Mark Dvorak has forged a reputation as an uncompromising road warrior\, traveling to thirty-six states and to Europe with only his songs\, stories\, guitar and five string banjo.\n\nHis new CD on the Waterbug label\, Time Ain't Got Nothin' On Me\, has been receiving rave reviews and airplay nationwide. Dvorak will be performing songs from his new disc\, as well as more well-known material\, and favorites from his previous recordings. Time Ain't Got Nothin' On Me is his 17th CD release.\n\nThe Chicago Tribune calls him "masterful\," while Sing Out! Magazine says\, "Dvorak shines." His song writing has been called "wondrous" and "profound\," and he has an "encyclopedic knowledge of traditional songs." His show is "funny\, passionate\, intimate and unforgettable." \n\nPresented by Off Square Music\n\n \n\nSubscription Package\n\nPurchase a package for four live performances from some of the best folk\, Irish\, and bluegrass musicians! All streamed live from the Opera House stage\, right to your home. Package includes performances from: Mark Dvorak\, Karen Reshkin & Mike O'Regan\, Small Potatoes\, and Anderlik\, Otto and Church.\n\nTICKETS: $10.00 Livestream Individual Ticket* \n\nTICKETS: $20.00 Livestream Package (Includes all four Spotlight Performances)
X-ALT-DESC;FMTTYPE=text/html:<p>WOH&nbsp\;SPOTLIGHT SERIES - LIVESTREAM PERFORMANCE</p>\n\n<p>Over the last two decades\, Mark Dvorak has forged a reputation as an uncompromising road warrior\, traveling to thirty-six states and to Europe with only his songs\, stories\, guitar and five string banjo.</p>\n\n<p>His new CD on the&nbsp\;Waterbug&nbsp\;label\, Time Ain&rsquo\;t Got&nbsp\;Nothin&rsquo\;&nbsp\;On Me\, has been receiving rave reviews and airplay nationwide. Dvorak will be performing songs from his new disc\, as well as more well-known material\, and favorites from his previous recordings. Time Ain&rsquo\;t Got&nbsp\;Nothin&rsquo\;&nbsp\;On Me is his 17th CD release.</p>\n\n<p>The Chicago Tribune calls him &ldquo\;masterful\,&rdquo\; while Sing Out! Magazine says\, &ldquo\;Dvorak shines.&rdquo\; His song writing has been called &ldquo\;wondrous&rdquo\; and &ldquo\;profound\,&rdquo\; and he has an &ldquo\;encyclopedic knowledge of traditional songs.&rdquo\; His show is &ldquo\;funny\, passionate\, intimate and unforgettable.&rdquo\;&nbsp\;</p>\n\n<p>Presented by Off Square Music</p>\n\n<p>&nbsp\;</p>\n\n<p><strong>Subscription Package</strong><br />\nPurchase a package for four live performances from some of the best folk\, Irish\, and bluegrass musicians! All streamed live from the Opera House stage\, right to your home. Package includes performances from:&nbsp\;Mark Dvorak\, Karen&nbsp\;Reshkin&nbsp\;&amp\; Mike&nbsp\;O&rsquo\;Regan\,&nbsp\;Small Potatoes\, and&nbsp\;Anderlik\, Otto and Church.</p>\n\n<p><a href="https://www.etix.com/ticket/p/3622769/woh-spotlight-seriesmark-dvorak-woodstock-woodstock-opera-house" style="text-decoration-line: none\; color: rgb(129\, 24\, 27)\; background: transparent\;" target="_blank">TICKETS: $10.00 Livestream Individual Ticket*&nbsp\;</a><br />\n<a href="https://www.etix.com/ticket/k/9584933/woh-spotlight-series-off-square-music-woodstock-woodstock-opera-house" style="text-decoration-line: none\; color: rgb(129\, 24\, 27)\; background: transparent\;" target="_blank">TICKETS: $20.00&nbsp\;Livestream&nbsp\;Package (Includes all four Spotlight Performances)</a></p>\n
LOCATION:Woodstock Opera House - Livestream 121 Van Buren Street Woodstock\, IL 60098
UID:e.2851.12412
SEQUENCE:3
DTSTAMP:20260420T060529Z
URL:https://business.woodstockilchamber.com/events/details/woh-spotlight-series-mark-dvorak-12412
END:VEVENT

END:VCALENDAR
