BEGIN:VCALENDAR
VERSION:2.0
PRODID:-//ChamberMaster//Event Calendar 2.0//EN
METHOD:PUBLISH
X-PUBLISHED-TTL:P3D
REFRESH-INTERVAL:P3D
CALSCALE:GREGORIAN
BEGIN:VEVENT
DTSTART:20200226T180000Z
DTEND:20200226T190000Z
X-MICROSOFT-CDO-ALLDAYEVENT:FALSE
SUMMARY:Woodstock Area Chamber Women's Network
DESCRIPTION:Stayed informed\, make connections\, \n\nsupport each other - Join the Woodstock\n\nChamber Women's Network group.\n\n\n\nPlease register and let us know if you would like lunch.\n\nBring $10 for lunch.
X-ALT-DESC;FMTTYPE=text/html:Stayed informed\, make connections\,&nbsp\;<br />\nsupport each other - Join the Woodstock<br />\nChamber Women&#39\;s Network group.<br />\n<br />\nPlease register and let us know if you would like lunch.<br />\nBring $10 for lunch.<br />\n<br />\n&nbsp\;
LOCATION:Woodstock Chamber of Commerce 127 E. Calhoun St. Woodstock\, IL
UID:e.2851.11115
SEQUENCE:3
DTSTAMP:20260423T020939Z
URL:https://business.woodstockilchamber.com/events/details/woodstock-area-chamber-women-s-network-02-26-2020-11115
END:VEVENT

END:VCALENDAR
