BEGIN:VCALENDAR
VERSION:2.0
PRODID:-//ChamberMaster//Event Calendar 2.0//EN
METHOD:PUBLISH
X-PUBLISHED-TTL:P3D
REFRESH-INTERVAL:P3D
CALSCALE:GREGORIAN
BEGIN:VEVENT
DTSTART:20200422T170000Z
DTEND:20200422T180000Z
X-MICROSOFT-CDO-ALLDAYEVENT:FALSE
SUMMARY:Woodstock Area Chamber Women's Network
DESCRIPTION:Stayed informed\, make connections\, \n\nsupport each other - Join the Woodstock\n\nChamber Women's Network group.\n\n\n\nLunch provided by the Chamber.  Please\n\nRSVP by January 17th for food count.
X-ALT-DESC;FMTTYPE=text/html:Stayed informed\, make connections\,&nbsp\;<br />\nsupport each other - Join the Woodstock<br />\nChamber Women&#39\;s Network group.<br />\n<br />\nLunch provided by the Chamber.&nbsp\; Please<br />\nRSVP by January 17th for food count.<br />\n<br />\n&nbsp\;
LOCATION:Woodstock Chamber of Commerce 127 E. Calhoun St. Woodstock\, IL
UID:e.2851.11117
SEQUENCE:3
DTSTAMP:20260422T223652Z
URL:https://business.woodstockilchamber.com/events/details/woodstock-area-chamber-women-s-network-04-22-2020-11117
END:VEVENT

END:VCALENDAR
