BEGIN:VCALENDAR
VERSION:2.0
PRODID:-//ChamberMaster//Event Calendar 2.0//EN
METHOD:PUBLISH
X-PUBLISHED-TTL:P3D
REFRESH-INTERVAL:P3D
CALSCALE:GREGORIAN
BEGIN:VEVENT
DTSTART:20200826T170000Z
DTEND:20200826T180000Z
X-MICROSOFT-CDO-ALLDAYEVENT:FALSE
SUMMARY:Woodstock Area Chamber Women's Network - ZOOM
DESCRIPTION:Stayed informed\, make connections\, \n\nsupport each other - Join the Woodstock\n\nChamber Women's Network group.\nJoin Zoom Meeting\n\nhttps://zoom.us/j/92157394063?pwd=U0U2anhjWDFkVFo3ZmdtVGJmN0lTdz09\n\n \n\nMeeting ID: 921 5739 4063\n\nPasscode: 009707\n\nOne tap mobile\n\n+13126266799\n\n\nMelissa Adamson from the McHenry County Department of Health\n\n& Stacy Brown with New York Life will be our guest speakers.
X-ALT-DESC;FMTTYPE=text/html:Stayed informed\, make connections\,&nbsp\;<br />\nsupport each other - Join the Woodstock<br />\nChamber Women&#39\;s Network group.\n<div style="color: rgb(1\, 25\, 76)\; font-family: Verdana\, Geneva\, sans-serif\; font-size: 14px\; white-space: pre-wrap\; background-color: rgb(255\, 255\, 255)\; text-align: center\;"><span style="font-weight: bold\; font-family: &quot\;Century Gothic&quot\;\, Calibri\, Helvetica\, Arial\, sans-serif\;">Join Zoom Meeting</span></div>\n\n<div style="color: rgb(1\, 25\, 76)\; font-family: Verdana\, Geneva\, sans-serif\; font-size: 14px\; white-space: pre-wrap\; background-color: rgb(255\, 255\, 255)\; text-align: center\;"><a data-link-type="undefined" href="https://zoom.us/j/92157394063?pwd=U0U2anhjWDFkVFo3ZmdtVGJmN0lTdz09" rel="noopener noreferrer" style="text-decoration-line: none\; color: rgb(1\, 25\, 76)\; font-weight: bold\; font-family: &quot\;Century Gothic&quot\;\, Calibri\, Helvetica\, Arial\, sans-serif\;" target="_blank">https://zoom.us/j/92157394063?pwd=U0U2anhjWDFkVFo3ZmdtVGJmN0lTdz09</a></div>\n\n<div style="color: rgb(1\, 25\, 76)\; font-family: Verdana\, Geneva\, sans-serif\; font-size: 14px\; white-space: pre-wrap\; background-color: rgb(255\, 255\, 255)\; text-align: center\;"><span style="font-family: &quot\;Century Gothic&quot\;\, Calibri\, Helvetica\, Arial\, sans-serif\;">&nbsp\;</span></div>\n\n<div style="color: rgb(1\, 25\, 76)\; font-family: Verdana\, Geneva\, sans-serif\; font-size: 14px\; white-space: pre-wrap\; background-color: rgb(255\, 255\, 255)\; text-align: center\;"><span style="font-family: &quot\;Century Gothic&quot\;\, Calibri\, Helvetica\, Arial\, sans-serif\;">Meeting ID: 921 5739 4063</span></div>\n\n<div style="color: rgb(1\, 25\, 76)\; font-family: Verdana\, Geneva\, sans-serif\; font-size: 14px\; white-space: pre-wrap\; background-color: rgb(255\, 255\, 255)\; text-align: center\;"><span style="font-family: &quot\;Century Gothic&quot\;\, Calibri\, Helvetica\, Arial\, sans-serif\;">Passcode: 009707</span></div>\n\n<div style="color: rgb(1\, 25\, 76)\; font-family: Verdana\, Geneva\, sans-serif\; font-size: 14px\; white-space: pre-wrap\; background-color: rgb(255\, 255\, 255)\; text-align: center\;"><span style="font-family: &quot\;Century Gothic&quot\;\, Calibri\, Helvetica\, Arial\, sans-serif\;">One tap mobile</span></div>\n\n<div style="color: rgb(1\, 25\, 76)\; font-family: Verdana\, Geneva\, sans-serif\; font-size: 14px\; white-space: pre-wrap\; background-color: rgb(255\, 255\, 255)\; text-align: center\;"><span style="font-family: &quot\;Century Gothic&quot\;\, Calibri\, Helvetica\, Arial\, sans-serif\;">+13126266799</span></div>\n<br />\n<strong><span style="font-family:calibri\,sans-serif\;"><span style="font-size:11.0pt\;">Melissa Adamson from the McHenry County Department of Health<br />\n&amp\; Stacy Brown with New York Life will be our guest speakers.&nbsp\;</span></span></strong>
LOCATION:Woodstock Chamber of Commerce 127 E. Calhoun St. Woodstock\, IL
UID:e.2851.11121
SEQUENCE:3
DTSTAMP:20260422T173403Z
URL:https://business.woodstockilchamber.com/events/details/woodstock-area-chamber-women-s-network-zoom-11121
END:VEVENT

END:VCALENDAR
