BEGIN:VCALENDAR
VERSION:2.0
PRODID:-//ChamberMaster//Event Calendar 2.0//EN
METHOD:PUBLISH
X-PUBLISHED-TTL:P3D
REFRESH-INTERVAL:P3D
CALSCALE:GREGORIAN
BEGIN:VEVENT
DTSTART:20200227T233000Z
DTEND:20200228T010000Z
X-MICROSOFT-CDO-ALLDAYEVENT:FALSE
SUMMARY:Woodstock Moose Lodge Burger Night
DESCRIPTION:Woodstock Moose Lodge is opening to the public on\n\nThursday\, February 27 for Burger Night. All proceeds\n\nare going to THE FRIENDS OF THE OPERA HOUSE.\n\nBring your friends and enjoy a burger!
X-ALT-DESC;FMTTYPE=text/html:<span style="color: rgb(29\, 33\, 41)\; font-family: Helvetica\, Arial\, sans-serif\; font-size: 14px\; white-space: pre-wrap\; background-color: rgb(255\, 255\, 255)\;">Woodstock Moose Lodge is opening to the public on<br />\nThursday\, February 27 for Burger Night. All proceeds<br />\nare going to THE FRIENDS OF THE OPERA HOUSE.<br />\nBring your friends and enjoy a burger!</span>
LOCATION:Woodstock Moose Lodge 406 Clay Street Woodstock
UID:e.2851.11236
SEQUENCE:3
DTSTAMP:20260423T020622Z
URL:https://business.woodstockilchamber.com/events/details/woodstock-moose-lodge-burger-night-11236
END:VEVENT

END:VCALENDAR
