BEGIN:VCALENDAR
VERSION:2.0
PRODID:-//ChamberMaster//Event Calendar 2.0//EN
METHOD:PUBLISH
X-PUBLISHED-TTL:P3D
REFRESH-INTERVAL:P3D
CALSCALE:GREGORIAN
BEGIN:VEVENT
DTSTART:20200827T223000Z
DTEND:20200828T003000Z
X-MICROSOFT-CDO-ALLDAYEVENT:FALSE
SUMMARY:Woodstock Moose Lodge Burger Night
DESCRIPTION:Burger night is back!! Stop in for a hand pressed burger and fresh cut fries!\n\nAll proceeds from this event will benefit the Woodstock Professional\n\nBusiness Women Scholarship.\n\n\n\nServing from 5:30pm - 7:30pm\n\n\n\nA reminder masks are required to enter and please practice social distancing.
X-ALT-DESC;FMTTYPE=text/html:<span background-color:="" font-size:="" segoe="" style="color: rgb(5\, 5\, 5)\; font-family: " ui="" white-space:="">Burger night is back!! Stop in for a hand pressed burger and fresh cut fries!<br />\nAll proceeds from this event will benefit the Woodstock Professional<br />\nBusiness&nbsp\;Women Scholarship.<br />\n<br />\nServing from 5:30pm - 7:30pm<br />\n<br />\nA reminder masks are required to enter and please practice social distancing.</span><br />\n<br />\n&nbsp\;
LOCATION:Woodstock Moose Lodge 406 Clay Street Woodstock\, IL
UID:e.2851.12001
SEQUENCE:3
DTSTAMP:20260422T155157Z
URL:https://business.woodstockilchamber.com/events/details/woodstock-moose-lodge-burger-night-12001
END:VEVENT

END:VCALENDAR
