BEGIN:VCALENDAR
VERSION:2.0
PRODID:-//ChamberMaster//Event Calendar 2.0//EN
METHOD:PUBLISH
X-PUBLISHED-TTL:P3D
REFRESH-INTERVAL:P3D
CALSCALE:GREGORIAN
BEGIN:VEVENT
DTSTART:20200201T180000Z
DTEND:20200201T200000Z
X-MICROSOFT-CDO-ALLDAYEVENT:FALSE
SUMMARY:Woodstock Rotary Bags Tournament
DESCRIPTION:Join the competition in the beer garden. Do you play\n\nbags in the backyard? Are you in a summer league?\n\nWhy not play in the cold and snow? Money raised\n\ngoes to Christmas Clearing House. \n\nCash prizes. Cash Bar.
X-ALT-DESC;FMTTYPE=text/html:<span style="font-size:16px\;"><span style="color:#222222\;"><span style="font-family:times new roman\,serif\;">Join the competition in the beer garden. Do you play<br />\nbags in the backyard? Are you in a summer league?<br />\nWhy not play in the cold and snow? Money raised<br />\ngoes to Christmas Clearing House. </span></span><br />\n<span style="color:#222222\;"><span style="font-family:times new roman\,serif\;">Cash prizes. Cash Bar.</span></span></span>
LOCATION:Ortmann's Red Iron Tavern 101 E. Church St. Woodstock\, IL
UID:e.2851.10443
SEQUENCE:3
DTSTAMP:20260423T020939Z
URL:https://business.woodstockilchamber.com/events/details/woodstock-rotary-bags-tournament-10443
END:VEVENT

END:VCALENDAR
