BEGIN:VCALENDAR
VERSION:2.0
PRODID:-//ChamberMaster//Event Calendar 2.0//EN
METHOD:PUBLISH
X-PUBLISHED-TTL:P3D
REFRESH-INTERVAL:P3D
CALSCALE:GREGORIAN
BEGIN:VEVENT
DTSTART:20200131T000000Z
DTEND:20200131T030000Z
X-MICROSOFT-CDO-ALLDAYEVENT:FALSE
SUMMARY:Woodstock Willie Craft Beer Sampling
DESCRIPTION:Join Woodstock Willie in the shadows at this benefit\n\nfor the Child Advocacy Center of McHenry County.\n\nA donation will get you 10 samplings of ShadowView's\n\nown brew along with appetizers and their homemade pizza. Cash bar.
X-ALT-DESC;FMTTYPE=text/html:<span style="font-size:16px\;"><span style="color:#222222\;"><span style="font-family:times new roman\,serif\;">Join&nbsp\;Woodstock Willie in the shadows at this benefit<br />\nfor the Child Advocacy Center of McHenry County.<br />\nA donation will get you 10 samplings of ShadowView&#39\;s<br />\nown brew along with appetizers and their homemade pizza. Cash bar.</span></span><br />\n&nbsp\;</span>
LOCATION:Shadwovew Brewing 2400 Lake Shore Dr. Woodstock
UID:e.2851.10434
SEQUENCE:3
DTSTAMP:20260423T034627Z
URL:https://business.woodstockilchamber.com/events/details/woodstock-willie-craft-beer-sampling-10434
END:VEVENT

END:VCALENDAR
