BEGIN:VCALENDAR
VERSION:2.0
PRODID:-//ChamberMaster//Event Calendar 2.0//EN
METHOD:PUBLISH
X-PUBLISHED-TTL:P3D
REFRESH-INTERVAL:P3D
CALSCALE:GREGORIAN
BEGIN:VEVENT
DTSTART:20191010T230000Z
DTEND:20191011T013000Z
X-MICROSOFT-CDO-ALLDAYEVENT:FALSE
SUMMARY:World Homeless Day
DESCRIPTION:United Way of Greater McHenry County is supporting Continuum of Care presentation of the movie "The Invisible Class" in commemoration of World Homeless Day. Also\, learn how to donate via United Way to support the agencies that tackle Homeless issues in McHenry County.
X-ALT-DESC;FMTTYPE=text/html:United Way of Greater McHenry County is supporting Continuum of Care presentation of the movie &quot\;The Invisible Class&quot\; in commemoration of World Homeless Day. Also\, learn how to donate via United Way to support the agencies that tackle Homeless issues in McHenry County.
LOCATION:Woodstock Opera House
UID:e.2851.10299
SEQUENCE:3
DTSTAMP:20260423T092008Z
URL:https://business.woodstockilchamber.com/events/details/world-homeless-day-10299
END:VEVENT

END:VCALENDAR
