BEGIN:VCALENDAR
VERSION:2.0
PRODID:-//ChamberMaster//Event Calendar 2.0//EN
METHOD:PUBLISH
X-PUBLISHED-TTL:P3D
REFRESH-INTERVAL:P3D
CALSCALE:GREGORIAN
BEGIN:VEVENT
DTSTART:20190928T140000Z
DTEND:20190928T170000Z
X-MICROSOFT-CDO-ALLDAYEVENT:FALSE
SUMMARY:World's LARGEST Pet Walk
DESCRIPTION:Join True Blue Dogs as we celebrate with Pet Partners for the World's LARGEST Pet Walk to benefit True Blue Dogs. Online Pre-Registration is encouraged:  truebluedogs.org/walk-registration/\n\n$20 fee includes an event tee-shirt and a dog treat bag\, courtesy of Nikki's Creative Confections.\n\nThanks to co-sponsors Northwestern Medicine\, and Mim Amis for creating the wonderful quilt we'll be raffling away.
X-ALT-DESC;FMTTYPE=text/html:<span style="font-family:arial\,helvetica\,sans-serif">Join True Blue Dogs as we celebrate with Pet Partners for the <strong>World&#39\;s LARGEST Pet Walk</strong> to benefit True Blue Dogs. Online Pre-Registration is encouraged: &nbsp\;truebluedogs.org/walk-registration/<br />\n$20 fee includes an event tee-shirt and a dog treat bag\, courtesy of Nikki&#39\;s Creative Confections.<br />\nThanks to co-sponsors Northwestern Medicine\, and Mim Amis for creating the wonderful quilt we&#39\;ll be raffling away.</span>
LOCATION:Emricson Park\, Woodstock Starting at the Roskie Pavilion (SW corner of the Park\, near the Pool)
UID:e.2851.10268
SEQUENCE:3
DTSTAMP:20260423T105423Z
URL:https://business.woodstockilchamber.com/events/details/world-s-largest-pet-walk-10268
END:VEVENT

END:VCALENDAR
