BEGIN:VCALENDAR
VERSION:2.0
PRODID:-//ChamberMaster//Event Calendar 2.0//EN
METHOD:PUBLISH
X-PUBLISHED-TTL:P3D
REFRESH-INTERVAL:P3D
CALSCALE:GREGORIAN
BEGIN:VEVENT
DTSTART:20200724T000000Z
DTEND:20200724T020000Z
X-MICROSOFT-CDO-ALLDAYEVENT:FALSE
SUMMARY:Wunderkammer - Great Art on Screen
DESCRIPTION:The Wunderkammer   also known as "cabinets of curiosities"   emerged among sovereigns and elite collectors in the 16th century.\n\nThere are extraordinary rooms all over the world: the Renaissance cabinets that became some of today's major museums over the course of the 18th century\, and those of the present\, whose contents come from the most prestigious galleries displayed in amazing villas and castles. \n\nThe documentary event film allows viewers a never-before-seen look into these secret places filled with eccentric and priceless oddities in private collections to reveal the wonder that lies inside them.\n\nPresented by Woodstock Opera House in partnership with Woodstock Fine Arts Association
X-ALT-DESC;FMTTYPE=text/html:<p>The&nbsp\;Wunderkammer&nbsp\;&ndash\; also known as &quot\;cabinets of curiosities&quot\; &ndash\; emerged among sovereigns and elite collectors in the 16th century.</p>\n\n<p>There are extraordinary rooms all over the world: the Renaissance cabinets that became some of today&rsquo\;s major museums over the course of the 18th&nbsp\;century\, and those of the present\, whose contents come from the most prestigious galleries displayed in amazing villas and castles.&nbsp\;</p>\n\n<p>The documentary event film allows viewers a never-before-seen look into these secret places filled with eccentric and priceless oddities in private collections to reveal the wonder that lies inside them.</p>\n\n<p>Presented by Woodstock Opera House in partnership with Woodstock Fine Arts Association</p>\n
LOCATION:Woodstock Opera House 121 Van Buren Street Woodstock\, IL 60098
UID:e.2851.11263
SEQUENCE:3
DTSTAMP:20260422T172645Z
URL:https://business.woodstockilchamber.com/events/details/wunderkammer-great-art-on-screen-11263
END:VEVENT

END:VCALENDAR
