BEGIN:VCALENDAR
VERSION:2.0
PRODID:-//ChamberMaster//Event Calendar 2.0//EN
METHOD:PUBLISH
X-PUBLISHED-TTL:P3D
REFRESH-INTERVAL:P3D
CALSCALE:GREGORIAN
BEGIN:VEVENT
DTSTART:20260318T223000Z
DTEND:20260319T000000Z
X-MICROSOFT-CDO-ALLDAYEVENT:FALSE
SUMMARY:WYP Launch Series: Networking Without the Awkward
DESCRIPTION:WYP Launch Series: Networking Without the Awkward\n\nNetworking doesn't have to feel awkward.\n\nJoin the Woodstock Young Professionals Social group for the first event in our new WYP Launch Series\, created to help young professionals build confidence and practical skills for their careers.\n\nThis laid-back session will cover the basics of networking: how to introduce yourself\, craft a simple elevator pitch\, and start conversations that lead to real connections. We'll keep it casual with a short discussion followed by time to mingle and practice with other young professionals.\n\nWhether you're new to networking or just want to feel more comfortable walking into your next event\, this is a great place to start.\n\n  March 18\n\n  5:30   7:00 PM\n\n  Squire on the Square\n\nCome grab a drink\, meet new people\, and leave with a few networking tips you can actually use.
X-ALT-DESC;FMTTYPE=text/html:<h3 data-end="57" data-start="0"><strong data-end="57" data-start="4">WYP Launch Series: Networking Without the Awkward</strong></h3>\n\n<p data-end="99" data-start="59">Networking doesn&rsquo\;t have to feel awkward.</p>\n\n<p data-end="286" data-start="101">Join the Woodstock Young Professionals Social group&nbsp\;for the first event in our new WYP Launch Series\, created to help young professionals build confidence and practical skills for their careers.</p>\n\n<p data-end="578" data-start="288">This laid-back session will cover the basics of networking:&nbsp\;how to introduce yourself\, craft a simple elevator pitch\, and start conversations that lead to real connections. We&rsquo\;ll keep it casual with a short discussion followed by time to mingle and practice with other young professionals.</p>\n\n<p data-end="712" data-start="580">Whether you&#39\;re new to networking or just want to feel more comfortable walking into your next event\, this is a great place to start.</p>\n\n<p data-end="782" data-start="714">&#128197\; <strong data-end="729" data-start="717">March 18</strong><br data-end="732" data-start="729" />\n&#9200\; <strong data-end="752" data-start="734">5:30 &ndash\; 7:00 PM</strong><br data-end="755" data-start="752" />\n&#128205\; <strong data-end="782" data-start="758">Squire on the Square</strong></p>\n\n<p data-end="878" data-is-last-node="" data-is-only-node="" data-start="784">Come grab a drink\, meet new people\, and leave with a few networking tips you can actually use.</p>\n
LOCATION:Squire on the Square 101 N Johnson Street Woodstock\, IL 60098
UID:e.2851.18295
SEQUENCE:3
DTSTAMP:20260420T184513Z
URL:https://business.woodstockilchamber.com/events/details/wyp-launch-series-networking-without-the-awkward-18295
END:VEVENT

END:VCALENDAR
